BEGIN:VCALENDAR
VERSION:2.0
PRODID:-//Montessori Academy Chicago - ECPv6.15.17//NONSGML v1.0//EN
CALSCALE:GREGORIAN
METHOD:PUBLISH
X-ORIGINAL-URL:https://montessoriacademychicago.org
X-WR-CALDESC:Events for Montessori Academy Chicago
REFRESH-INTERVAL;VALUE=DURATION:PT1H
X-Robots-Tag:noindex
X-PUBLISHED-TTL:PT1H
BEGIN:VTIMEZONE
TZID:America/Chicago
BEGIN:DAYLIGHT
TZOFFSETFROM:-0600
TZOFFSETTO:-0500
TZNAME:CDT
DTSTART:20150308T080000
END:DAYLIGHT
BEGIN:STANDARD
TZOFFSETFROM:-0500
TZOFFSETTO:-0600
TZNAME:CST
DTSTART:20151101T070000
END:STANDARD
BEGIN:DAYLIGHT
TZOFFSETFROM:-0600
TZOFFSETTO:-0500
TZNAME:CDT
DTSTART:20160313T080000
END:DAYLIGHT
BEGIN:STANDARD
TZOFFSETFROM:-0500
TZOFFSETTO:-0600
TZNAME:CST
DTSTART:20161106T070000
END:STANDARD
BEGIN:DAYLIGHT
TZOFFSETFROM:-0600
TZOFFSETTO:-0500
TZNAME:CDT
DTSTART:20170312T080000
END:DAYLIGHT
BEGIN:STANDARD
TZOFFSETFROM:-0500
TZOFFSETTO:-0600
TZNAME:CST
DTSTART:20171105T070000
END:STANDARD
END:VTIMEZONE
BEGIN:VEVENT
DTSTART;TZID=America/Chicago:20161115T173000
DTEND;TZID=America/Chicago:20161115T190000
DTSTAMP:20260423T070056
CREATED:20161003T204056Z
LAST-MODIFIED:20161003T204313Z
UID:361-1479231000-1479236400@montessoriacademychicago.org
SUMMARY:Eat your Broccoli! Trouble Shoot Picky Eating: Presented by NSPT and Academy Faculty.
DESCRIPTION:Are mealtimes a battle at home? MAC academic faculty in collaboration with NSPT clinicians will share knowledge and strategies to help identify and address picky eating habits. Not only will you learn about developmental feeding milestones\, but you will also obtain tips to support healthy eating habits for your little ones. Whether it’s sensorial experiences\, environmental factors\, or language usage\, you will learn strategies to help promote success at mealtimes. This will be an interactive presentation with hands-on experiences and real life scenarios. It is our goal to educate you on this common matter to help establish a peaceful experience around your kitchen table!
URL:https://montessoriacademychicago.org/event/eat-your-broccoli-trouble-shoot-picky-eating-presented-by-nspt-and-academy-faculty/
END:VEVENT
BEGIN:VEVENT
DTSTART;TZID=America/Chicago:20161115T173000
DTEND;TZID=America/Chicago:20161115T190000
DTSTAMP:20260423T070056
CREATED:20161003T204056Z
LAST-MODIFIED:20161003T204056Z
UID:920-1479231000-1479236400@montessoriacademychicago.org
SUMMARY:Eat your Broccoli! Trouble Shoot Picky Eating: Presented by NSPT and Academy Faculty.
DESCRIPTION:Are mealtimes a battle at home? MAC academic faculty in collaboration with NSPT clinicians will share knowledge and strategies to help identify and address picky eating habits. Not only will you learn about developmental feeding milestones\, but you will also obtain tips to support healthy eating habits for your little ones. Whether it’s sensorial experiences\, environmental factors\, or language usage\, you will learn strategies to help promote success at mealtimes. This will be an interactive presentation with hands-on experiences and real life scenarios. It is our goal to educate you on this common matter to help establish a peaceful experience around your kitchen table!
URL:https://montessoriacademychicago.org/event/eat-your-broccoli-trouble-shoot-picky-eating-presented-by-nspt-and-academy-faculty-2/
END:VEVENT
END:VCALENDAR