BEGIN:VCALENDAR
VERSION:2.0
PRODID:-//Montessori Academy Chicago - ECPv6.15.17//NONSGML v1.0//EN
CALSCALE:GREGORIAN
METHOD:PUBLISH
X-WR-CALNAME:Montessori Academy Chicago
X-ORIGINAL-URL:https://montessoriacademychicago.org
X-WR-CALDESC:Events for Montessori Academy Chicago
REFRESH-INTERVAL;VALUE=DURATION:PT1H
X-Robots-Tag:noindex
X-PUBLISHED-TTL:PT1H
BEGIN:VTIMEZONE
TZID:America/Chicago
BEGIN:DAYLIGHT
TZOFFSETFROM:-0600
TZOFFSETTO:-0500
TZNAME:CDT
DTSTART:20150308T080000
END:DAYLIGHT
BEGIN:STANDARD
TZOFFSETFROM:-0500
TZOFFSETTO:-0600
TZNAME:CST
DTSTART:20151101T070000
END:STANDARD
BEGIN:DAYLIGHT
TZOFFSETFROM:-0600
TZOFFSETTO:-0500
TZNAME:CDT
DTSTART:20160313T080000
END:DAYLIGHT
BEGIN:STANDARD
TZOFFSETFROM:-0500
TZOFFSETTO:-0600
TZNAME:CST
DTSTART:20161106T070000
END:STANDARD
BEGIN:DAYLIGHT
TZOFFSETFROM:-0600
TZOFFSETTO:-0500
TZNAME:CDT
DTSTART:20170312T080000
END:DAYLIGHT
BEGIN:STANDARD
TZOFFSETFROM:-0500
TZOFFSETTO:-0600
TZNAME:CST
DTSTART:20171105T070000
END:STANDARD
END:VTIMEZONE
BEGIN:VEVENT
DTSTART;TZID=America/Chicago:20161207T173000
DTEND;TZID=America/Chicago:20161207T190000
DTSTAMP:20260423T052228
CREATED:20161003T204146Z
LAST-MODIFIED:20161003T204215Z
UID:362-1481131800-1481137200@montessoriacademychicago.org
SUMMARY:Moving on Up! Primary Open House for Pre-Primary Transition to Primary.
DESCRIPTION:Come and listen to our wonderful Guides introduce you to the Primary Program. The Primary classroom is intended for children aged 3-6 years old. It’s carefully designed to continue the Academy’s philosophy of “learning by doing.” In this mixed aged environment\, children spend three years building a classroom community. It is here they construct a solid foundation for their academic and social development and growth. The Primary program exists in a uniquely prepared environment structured and constructed to meet a child’s individual needs. Come join us as our teachers introduce and explain the five areas of the Primary Program: Practical Life\, Sensorial\, Language\, Mathematics\, and Cultural activities. This presentation will give a thorough overview of our program\, transition process and discuss the importance of the Montessori Kindergarten year. Our teachers will be available to answer your questions regarding transition process the next stage of your child’s developmental journey.
URL:https://montessoriacademychicago.org/event/moving-on-up-primary-open-house-for-pre-primary-transition-to-primary/
END:VEVENT
BEGIN:VEVENT
DTSTART;TZID=America/Chicago:20161207T173000
DTEND;TZID=America/Chicago:20161207T190000
DTSTAMP:20260423T052228
CREATED:20161003T204146Z
LAST-MODIFIED:20161003T204146Z
UID:921-1481131800-1481137200@montessoriacademychicago.org
SUMMARY:Moving on Up! Primary Open House for Pre-Primary Transition to Primary.
DESCRIPTION:Come and listen to our wonderful Guides introduce you to the Primary Program. The Primary classroom is intended for children aged 3-6 years old. It’s carefully designed to continue the Academy’s philosophy of “learning by doing.” In this mixed aged environment\, children spend three years building a classroom community. It is here they construct a solid foundation for their academic and social development and growth. The Primary program exists in a uniquely prepared environment structured and constructed to meet a child’s individual needs. Come join us as our teachers introduce and explain the five areas of the Primary Program: Practical Life\, Sensorial\, Language\, Mathematics\, and Cultural activities. This presentation will give a thorough overview of our program\, transition process and discuss the importance of the Montessori Kindergarten year. Our teachers will be available to answer your questions regarding transition process the next stage of your child’s developmental journey.
URL:https://montessoriacademychicago.org/event/moving-on-up-primary-open-house-for-pre-primary-transition-to-primary-2/
END:VEVENT
END:VCALENDAR