BEGIN:VCALENDAR
VERSION:2.0
PRODID:-//Montessori Academy Chicago - ECPv6.15.17//NONSGML v1.0//EN
CALSCALE:GREGORIAN
METHOD:PUBLISH
X-WR-CALNAME:Montessori Academy Chicago
X-ORIGINAL-URL:https://montessoriacademychicago.org
X-WR-CALDESC:Events for Montessori Academy Chicago
REFRESH-INTERVAL;VALUE=DURATION:PT1H
X-Robots-Tag:noindex
X-PUBLISHED-TTL:PT1H
BEGIN:VTIMEZONE
TZID:America/Chicago
BEGIN:DAYLIGHT
TZOFFSETFROM:-0600
TZOFFSETTO:-0500
TZNAME:CDT
DTSTART:20170312T080000
END:DAYLIGHT
BEGIN:STANDARD
TZOFFSETFROM:-0500
TZOFFSETTO:-0600
TZNAME:CST
DTSTART:20171105T070000
END:STANDARD
BEGIN:DAYLIGHT
TZOFFSETFROM:-0600
TZOFFSETTO:-0500
TZNAME:CDT
DTSTART:20180311T080000
END:DAYLIGHT
BEGIN:STANDARD
TZOFFSETFROM:-0500
TZOFFSETTO:-0600
TZNAME:CST
DTSTART:20181104T070000
END:STANDARD
BEGIN:DAYLIGHT
TZOFFSETFROM:-0600
TZOFFSETTO:-0500
TZNAME:CDT
DTSTART:20190310T080000
END:DAYLIGHT
BEGIN:STANDARD
TZOFFSETFROM:-0500
TZOFFSETTO:-0600
TZNAME:CST
DTSTART:20191103T070000
END:STANDARD
END:VTIMEZONE
BEGIN:VEVENT
DTSTART;TZID=America/Chicago:20181003T173000
DTEND;TZID=America/Chicago:20181003T183000
DTSTAMP:20260421T132333
CREATED:20180910T183042Z
LAST-MODIFIED:20180910T204721Z
UID:489-1538587800-1538591400@montessoriacademychicago.org
SUMMARY:Continued Parent Enrichment: Emotions Matter- Emotional Intelligence\, Coping\, and Cooperation at Home and School!
DESCRIPTION:Children have a wide array of feelings and experiences at home and\nschool each day that impact how they interact and cooperate. Come\nexplore the science of emotional intelligence and discuss ways we can\nhelp children cope AND cooperate\, and manage their feelings safely.\nJoin us for an interactive workshop to learn about how our school\nis working to create a positive emotional climate for learning and\ndeveloping RULER skills at school. Learn how emotional intelligence\nand RULER skills can guide cooperation\, caring\, and regulation at\nhome. Presented by: Meghan Greeley\, LCSW\, School Social Worker.
URL:https://montessoriacademychicago.org/event/continued-parent-enrichment-emotions-matter-emotional-intelligence-coping-and-cooperation-at-home-and-school/
END:VEVENT
BEGIN:VEVENT
DTSTART;TZID=America/Chicago:20181003T173000
DTEND;TZID=America/Chicago:20181003T183000
DTSTAMP:20260421T132333
CREATED:20180910T183042Z
LAST-MODIFIED:20180910T183042Z
UID:994-1538587800-1538591400@montessoriacademychicago.org
SUMMARY:Continued Parent Enrichment: Emotions Matter- Emotional Intelligence\, Coping\, and Cooperation at Home and School!
DESCRIPTION:Children have a wide array of feelings and experiences at home and\nschool each day that impact how they interact and cooperate. Come\nexplore the science of emotional intelligence and discuss ways we can\nhelp children cope AND cooperate\, and manage their feelings safely.\nJoin us for an interactive workshop to learn about how our school\nis working to create a positive emotional climate for learning and\ndeveloping RULER skills at school. Learn how emotional intelligence\nand RULER skills can guide cooperation\, caring\, and regulation at\nhome. Presented by: Meghan Greeley\, LCSW\, School Social Worker.
URL:https://montessoriacademychicago.org/event/continued-parent-enrichment-emotions-matter-emotional-intelligence-coping-and-cooperation-at-home-and-school-2/
END:VEVENT
END:VCALENDAR