BEGIN:VCALENDAR
VERSION:2.0
PRODID:-//Montessori Academy Chicago - ECPv6.15.17//NONSGML v1.0//EN
CALSCALE:GREGORIAN
METHOD:PUBLISH
X-ORIGINAL-URL:https://montessoriacademychicago.org
X-WR-CALDESC:Events for Montessori Academy Chicago
REFRESH-INTERVAL;VALUE=DURATION:PT1H
X-Robots-Tag:noindex
X-PUBLISHED-TTL:PT1H
BEGIN:VTIMEZONE
TZID:America/Chicago
BEGIN:DAYLIGHT
TZOFFSETFROM:-0600
TZOFFSETTO:-0500
TZNAME:CDT
DTSTART:20170312T080000
END:DAYLIGHT
BEGIN:STANDARD
TZOFFSETFROM:-0500
TZOFFSETTO:-0600
TZNAME:CST
DTSTART:20171105T070000
END:STANDARD
BEGIN:DAYLIGHT
TZOFFSETFROM:-0600
TZOFFSETTO:-0500
TZNAME:CDT
DTSTART:20180311T080000
END:DAYLIGHT
BEGIN:STANDARD
TZOFFSETFROM:-0500
TZOFFSETTO:-0600
TZNAME:CST
DTSTART:20181104T070000
END:STANDARD
BEGIN:DAYLIGHT
TZOFFSETFROM:-0600
TZOFFSETTO:-0500
TZNAME:CDT
DTSTART:20190310T080000
END:DAYLIGHT
BEGIN:STANDARD
TZOFFSETFROM:-0500
TZOFFSETTO:-0600
TZNAME:CST
DTSTART:20191103T070000
END:STANDARD
END:VTIMEZONE
BEGIN:VEVENT
DTSTART;TZID=America/Chicago:20181009T173000
DTEND;TZID=America/Chicago:20181009T183000
DTSTAMP:20260421T134055
CREATED:20180910T184333Z
LAST-MODIFIED:20180910T184333Z
UID:490-1539106200-1539109800@montessoriacademychicago.org
SUMMARY:Continued Parent Enrichment: Art\, Music\, Gym\, and Technology at the Academy
DESCRIPTION:We are thrilled to launch the Academy Enrichment Department this\nfall! Join the new Academy Enrichment Department to discover how\nmusic\, art\, gym and technology at the Academy will enhance your\nchild’s learning and stimulate their creativity and self expression.\nAt this event you will have the opportunity to learn more about\nhow enrichment programming at the Academy will incorporate\nco-curricular integration\, tying into themes and subjects being\ncovered in our classrooms and customized for each class to suit the\nneeds of Academy students at all of our levels. We can’t wait to share\nwith you the plans that have been developed specifically with your\nchildren in mind!
URL:https://montessoriacademychicago.org/event/continued-parent-enrichment-art-music-gym-and-technology-at-the-academy/
END:VEVENT
BEGIN:VEVENT
DTSTART;TZID=America/Chicago:20181009T173000
DTEND;TZID=America/Chicago:20181009T183000
DTSTAMP:20260421T134055
CREATED:20180910T184333Z
LAST-MODIFIED:20180910T184333Z
UID:995-1539106200-1539109800@montessoriacademychicago.org
SUMMARY:Continued Parent Enrichment: Art\, Music\, Gym\, and Technology at the Academy
DESCRIPTION:We are thrilled to launch the Academy Enrichment Department this\nfall! Join the new Academy Enrichment Department to discover how\nmusic\, art\, gym and technology at the Academy will enhance your\nchild’s learning and stimulate their creativity and self expression.\nAt this event you will have the opportunity to learn more about\nhow enrichment programming at the Academy will incorporate\nco-curricular integration\, tying into themes and subjects being\ncovered in our classrooms and customized for each class to suit the\nneeds of Academy students at all of our levels. We can’t wait to share\nwith you the plans that have been developed specifically with your\nchildren in mind!
URL:https://montessoriacademychicago.org/event/continued-parent-enrichment-art-music-gym-and-technology-at-the-academy-2/
END:VEVENT
END:VCALENDAR