BEGIN:VCALENDAR
VERSION:2.0
PRODID:-//Montessori Academy Chicago - ECPv6.15.17//NONSGML v1.0//EN
CALSCALE:GREGORIAN
METHOD:PUBLISH
X-WR-CALNAME:Montessori Academy Chicago
X-ORIGINAL-URL:https://montessoriacademychicago.org
X-WR-CALDESC:Events for Montessori Academy Chicago
REFRESH-INTERVAL;VALUE=DURATION:PT1H
X-Robots-Tag:noindex
X-PUBLISHED-TTL:PT1H
BEGIN:VTIMEZONE
TZID:America/Chicago
BEGIN:DAYLIGHT
TZOFFSETFROM:-0600
TZOFFSETTO:-0500
TZNAME:CDT
DTSTART:20170312T080000
END:DAYLIGHT
BEGIN:STANDARD
TZOFFSETFROM:-0500
TZOFFSETTO:-0600
TZNAME:CST
DTSTART:20171105T070000
END:STANDARD
BEGIN:DAYLIGHT
TZOFFSETFROM:-0600
TZOFFSETTO:-0500
TZNAME:CDT
DTSTART:20180311T080000
END:DAYLIGHT
BEGIN:STANDARD
TZOFFSETFROM:-0500
TZOFFSETTO:-0600
TZNAME:CST
DTSTART:20181104T070000
END:STANDARD
BEGIN:DAYLIGHT
TZOFFSETFROM:-0600
TZOFFSETTO:-0500
TZNAME:CDT
DTSTART:20190310T080000
END:DAYLIGHT
BEGIN:STANDARD
TZOFFSETFROM:-0500
TZOFFSETTO:-0600
TZNAME:CST
DTSTART:20191103T070000
END:STANDARD
END:VTIMEZONE
BEGIN:VEVENT
DTSTART;TZID=America/Chicago:20181017T173000
DTEND;TZID=America/Chicago:20181017T183000
DTSTAMP:20260421T132209
CREATED:20180910T184529Z
LAST-MODIFIED:20180910T184529Z
UID:491-1539797400-1539801000@montessoriacademychicago.org
SUMMARY:Continued Parent Enrichment: Literacy at MAC (for Kindergarten and Elementary students)
DESCRIPTION:The literacy team at MAC will be implementing the Units of Study\nReading and Writing program for grades K-6. This new reading\nprogram’s mission is geared toward making our students skillful and\navid readers and writers. We will share the components and process\nof making a successful impact on our student’s literacy development.\nThe Units of Study program was developed by Teacher’s College\nReading and Writing Project at Columbia University. The Academy\nhas joined the thousands of schools that have implemented the\nTCRWP’s Units of Study for Reading and Writing program for grades\nK-6. We believe the approach to balance literacy developed by\nthe TCRWP are aligned with the process of reading and writing in\nMontessori classrooms from primary through middle School. The\nUnits of Study program will not replace the Montessori Method of\nteaching reading and writing. Instead\, it will enhance our literacy\ngoals by ensuring our students are armed with strategies and skills\nthat will make them even more successful.
URL:https://montessoriacademychicago.org/event/continued-parent-enrichment-literacy-at-mac-for-kindergarten-and-elementary-students/
END:VEVENT
BEGIN:VEVENT
DTSTART;TZID=America/Chicago:20181017T173000
DTEND;TZID=America/Chicago:20181017T183000
DTSTAMP:20260421T132209
CREATED:20180910T184529Z
LAST-MODIFIED:20180910T184529Z
UID:996-1539797400-1539801000@montessoriacademychicago.org
SUMMARY:Continued Parent Enrichment: Literacy at MAC (for Kindergarten and Elementary students)
DESCRIPTION:The literacy team at MAC will be implementing the Units of Study\nReading and Writing program for grades K-6. This new reading\nprogram’s mission is geared toward making our students skillful and\navid readers and writers. We will share the components and process\nof making a successful impact on our student’s literacy development.\nThe Units of Study program was developed by Teacher’s College\nReading and Writing Project at Columbia University. The Academy\nhas joined the thousands of schools that have implemented the\nTCRWP’s Units of Study for Reading and Writing program for grades\nK-6. We believe the approach to balance literacy developed by\nthe TCRWP are aligned with the process of reading and writing in\nMontessori classrooms from primary through middle School. The\nUnits of Study program will not replace the Montessori Method of\nteaching reading and writing. Instead\, it will enhance our literacy\ngoals by ensuring our students are armed with strategies and skills\nthat will make them even more successful.
URL:https://montessoriacademychicago.org/event/continued-parent-enrichment-literacy-at-mac-for-kindergarten-and-elementary-students-2/
END:VEVENT
END:VCALENDAR