BEGIN:VCALENDAR
VERSION:2.0
PRODID:-//Montessori Academy Chicago - ECPv6.15.17//NONSGML v1.0//EN
CALSCALE:GREGORIAN
METHOD:PUBLISH
X-WR-CALNAME:Montessori Academy Chicago
X-ORIGINAL-URL:https://montessoriacademychicago.org
X-WR-CALDESC:Events for Montessori Academy Chicago
REFRESH-INTERVAL;VALUE=DURATION:PT1H
X-Robots-Tag:noindex
X-PUBLISHED-TTL:PT1H
BEGIN:VTIMEZONE
TZID:America/Chicago
BEGIN:DAYLIGHT
TZOFFSETFROM:-0600
TZOFFSETTO:-0500
TZNAME:CDT
DTSTART:20180311T080000
END:DAYLIGHT
BEGIN:STANDARD
TZOFFSETFROM:-0500
TZOFFSETTO:-0600
TZNAME:CST
DTSTART:20181104T070000
END:STANDARD
BEGIN:DAYLIGHT
TZOFFSETFROM:-0600
TZOFFSETTO:-0500
TZNAME:CDT
DTSTART:20190310T080000
END:DAYLIGHT
BEGIN:STANDARD
TZOFFSETFROM:-0500
TZOFFSETTO:-0600
TZNAME:CST
DTSTART:20191103T070000
END:STANDARD
BEGIN:DAYLIGHT
TZOFFSETFROM:-0600
TZOFFSETTO:-0500
TZNAME:CDT
DTSTART:20200308T080000
END:DAYLIGHT
BEGIN:STANDARD
TZOFFSETFROM:-0500
TZOFFSETTO:-0600
TZNAME:CST
DTSTART:20201101T070000
END:STANDARD
END:VTIMEZONE
BEGIN:VEVENT
DTSTART;TZID=America/Chicago:20190123T173000
DTEND;TZID=America/Chicago:20190123T183000
DTSTAMP:20260421T082945
CREATED:20180910T192617Z
LAST-MODIFIED:20180910T192617Z
UID:499-1548264600-1548268200@montessoriacademychicago.org
SUMMARY:Continued Parent Enrichment: Toileting in the First Three Years of Life
DESCRIPTION:Toilet learning is a natural process and should be done at a pace\nto promote comfort and independence in the child. Encouraging\nchildren to become aware of their bodily functions during the\nsensitive period of development for toileting allows for less distress\nwhen the child is older and more physically able to control their\ntoileting abilities. The Montessori approach to toilet learning is\nto begin at birth and continue throughout the first three years of\nlife. Come and learn more about the Academy’s approach to this\nimportant developmental stage. This event will be hosted by our\nLower School teachers and will include take away material that will\nassist you in becoming a toilet learning expert.
URL:https://montessoriacademychicago.org/event/continued-parent-enrichment-toileting-in-the-first-three-years-of-life-2/
END:VEVENT
BEGIN:VEVENT
DTSTART;TZID=America/Chicago:20190123T173000
DTEND;TZID=America/Chicago:20190123T183000
DTSTAMP:20260421T082945
CREATED:20180910T192617Z
LAST-MODIFIED:20180910T192617Z
UID:1004-1548264600-1548268200@montessoriacademychicago.org
SUMMARY:Continued Parent Enrichment: Toileting in the First Three Years of Life
DESCRIPTION:Toilet learning is a natural process and should be done at a pace\nto promote comfort and independence in the child. Encouraging\nchildren to become aware of their bodily functions during the\nsensitive period of development for toileting allows for less distress\nwhen the child is older and more physically able to control their\ntoileting abilities. The Montessori approach to toilet learning is\nto begin at birth and continue throughout the first three years of\nlife. Come and learn more about the Academy’s approach to this\nimportant developmental stage. This event will be hosted by our\nLower School teachers and will include take away material that will\nassist you in becoming a toilet learning expert.
URL:https://montessoriacademychicago.org/event/continued-parent-enrichment-toileting-in-the-first-three-years-of-life-2-2/
END:VEVENT
END:VCALENDAR