BEGIN:VCALENDAR
VERSION:2.0
PRODID:-//Montessori Academy Chicago - ECPv6.15.17//NONSGML v1.0//EN
CALSCALE:GREGORIAN
METHOD:PUBLISH
X-WR-CALNAME:Montessori Academy Chicago
X-ORIGINAL-URL:https://montessoriacademychicago.org
X-WR-CALDESC:Events for Montessori Academy Chicago
REFRESH-INTERVAL;VALUE=DURATION:PT1H
X-Robots-Tag:noindex
X-PUBLISHED-TTL:PT1H
BEGIN:VTIMEZONE
TZID:America/Chicago
BEGIN:DAYLIGHT
TZOFFSETFROM:-0600
TZOFFSETTO:-0500
TZNAME:CDT
DTSTART:20180311T080000
END:DAYLIGHT
BEGIN:STANDARD
TZOFFSETFROM:-0500
TZOFFSETTO:-0600
TZNAME:CST
DTSTART:20181104T070000
END:STANDARD
BEGIN:DAYLIGHT
TZOFFSETFROM:-0600
TZOFFSETTO:-0500
TZNAME:CDT
DTSTART:20190310T080000
END:DAYLIGHT
BEGIN:STANDARD
TZOFFSETFROM:-0500
TZOFFSETTO:-0600
TZNAME:CST
DTSTART:20191103T070000
END:STANDARD
BEGIN:DAYLIGHT
TZOFFSETFROM:-0600
TZOFFSETTO:-0500
TZNAME:CDT
DTSTART:20200308T080000
END:DAYLIGHT
BEGIN:STANDARD
TZOFFSETFROM:-0500
TZOFFSETTO:-0600
TZNAME:CST
DTSTART:20201101T070000
END:STANDARD
END:VTIMEZONE
BEGIN:VEVENT
DTSTART;TZID=America/Chicago:20190131T173000
DTEND;TZID=America/Chicago:20190131T183000
DTSTAMP:20260421T065723
CREATED:20180910T225233Z
LAST-MODIFIED:20180910T225233Z
UID:505-1548955800-1548959400@montessoriacademychicago.org
SUMMARY:Continued Parent Enrichment: Intro to the Academy Middle School Program
DESCRIPTION:During the social and emotional period we call Adolescence\, young people seek to understand their place in society and search for opportunities to contribute to their communities. Continuing to build on their sense of justice and fairness that began to develop in the second plane\, younger adolescents (12-15) are naturally drawn to causes that involve high ideals. They prefer to take on projects that require action and believe they can make a positive difference in the world. Join us as we discuss the next step of your child’s journey: Montessori Middle School! Ms. Zakiya will introduce the core elements of a successful middle school program including Land Lab\, Service Learning\, and the basis for the Language and Math Curriculum.  Find out what is in store for your child as they move into their seventh and eighth grade year socially and emotionally. We will be sure to take the time to answer any questions you may have. 
URL:https://montessoriacademychicago.org/event/continued-parent-enrichment-intro-to-the-academy-middle-school-program/
END:VEVENT
BEGIN:VEVENT
DTSTART;TZID=America/Chicago:20190131T173000
DTEND;TZID=America/Chicago:20190131T183000
DTSTAMP:20260421T065723
CREATED:20180910T225233Z
LAST-MODIFIED:20180910T225233Z
UID:1009-1548955800-1548959400@montessoriacademychicago.org
SUMMARY:Continued Parent Enrichment: Intro to the Academy Middle School Program
DESCRIPTION:During the social and emotional period we call Adolescence\, young people seek to understand their place in society and search for opportunities to contribute to their communities. Continuing to build on their sense of justice and fairness that began to develop in the second plane\, younger adolescents (12-15) are naturally drawn to causes that involve high ideals. They prefer to take on projects that require action and believe they can make a positive difference in the world. Join us as we discuss the next step of your child’s journey: Montessori Middle School! Ms. Zakiya will introduce the core elements of a successful middle school program including Land Lab\, Service Learning\, and the basis for the Language and Math Curriculum.  Find out what is in store for your child as they move into their seventh and eighth grade year socially and emotionally. We will be sure to take the time to answer any questions you may have. 
URL:https://montessoriacademychicago.org/event/continued-parent-enrichment-intro-to-the-academy-middle-school-program-2/
END:VEVENT
END:VCALENDAR