BEGIN:VCALENDAR
VERSION:2.0
PRODID:-//Montessori Academy Chicago - ECPv6.15.17//NONSGML v1.0//EN
CALSCALE:GREGORIAN
METHOD:PUBLISH
X-ORIGINAL-URL:https://montessoriacademychicago.org
X-WR-CALDESC:Events for Montessori Academy Chicago
REFRESH-INTERVAL;VALUE=DURATION:PT1H
X-Robots-Tag:noindex
X-PUBLISHED-TTL:PT1H
BEGIN:VTIMEZONE
TZID:America/Chicago
BEGIN:DAYLIGHT
TZOFFSETFROM:-0600
TZOFFSETTO:-0500
TZNAME:CDT
DTSTART:20180311T080000
END:DAYLIGHT
BEGIN:STANDARD
TZOFFSETFROM:-0500
TZOFFSETTO:-0600
TZNAME:CST
DTSTART:20181104T070000
END:STANDARD
BEGIN:DAYLIGHT
TZOFFSETFROM:-0600
TZOFFSETTO:-0500
TZNAME:CDT
DTSTART:20190310T080000
END:DAYLIGHT
BEGIN:STANDARD
TZOFFSETFROM:-0500
TZOFFSETTO:-0600
TZNAME:CST
DTSTART:20191103T070000
END:STANDARD
BEGIN:DAYLIGHT
TZOFFSETFROM:-0600
TZOFFSETTO:-0500
TZNAME:CDT
DTSTART:20200308T080000
END:DAYLIGHT
BEGIN:STANDARD
TZOFFSETFROM:-0500
TZOFFSETTO:-0600
TZNAME:CST
DTSTART:20201101T070000
END:STANDARD
BEGIN:DAYLIGHT
TZOFFSETFROM:-0600
TZOFFSETTO:-0500
TZNAME:CDT
DTSTART:20210314T080000
END:DAYLIGHT
BEGIN:STANDARD
TZOFFSETFROM:-0500
TZOFFSETTO:-0600
TZNAME:CST
DTSTART:20211107T070000
END:STANDARD
BEGIN:DAYLIGHT
TZOFFSETFROM:-0600
TZOFFSETTO:-0500
TZNAME:CDT
DTSTART:20220313T080000
END:DAYLIGHT
BEGIN:STANDARD
TZOFFSETFROM:-0500
TZOFFSETTO:-0600
TZNAME:CST
DTSTART:20221106T070000
END:STANDARD
BEGIN:DAYLIGHT
TZOFFSETFROM:-0600
TZOFFSETTO:-0500
TZNAME:CDT
DTSTART:20230312T080000
END:DAYLIGHT
BEGIN:STANDARD
TZOFFSETFROM:-0500
TZOFFSETTO:-0600
TZNAME:CST
DTSTART:20231105T070000
END:STANDARD
END:VTIMEZONE
BEGIN:VEVENT
DTSTART;TZID=America/Chicago:20220119T130000
DTEND;TZID=America/Chicago:20220119T130000
DTSTAMP:20260421T170804
CREATED:20211213T163633Z
LAST-MODIFIED:20220407T190254Z
UID:1261-1642597200-1642597200@montessoriacademychicago.org
SUMMARY:Virtual Admissions Coffee Chat
DESCRIPTION:We’re enrolling right now\, and for fall 2022! \nOur Admissions Coffee Chats provide prospective families with the opportunity to learn more about our programming\, the Montessori pedagogy and approach\, and the admissions process overall. Come meet our Head of School and take a look at the magic that happens in our classrooms every day! \nRSVP Required. Please give us a call at 312.243.0977\, fill out the inquiry form\, or reach out to our team at admissions@montessoriacademychicago.localhost.me if you’d like to attend. \nZoom info will be shared the week of the event.
URL:https://montessoriacademychicago.org/event/in-person-admissions-coffee-chat/2022-01-19/
CATEGORIES:Coffee Chats
END:VEVENT
BEGIN:VEVENT
DTSTART;TZID=America/Chicago:20201230T130000
DTEND;TZID=America/Chicago:20201230T140000
DTSTAMP:20260421T170804
CREATED:20201211T231649Z
LAST-MODIFIED:20211213T162703Z
UID:1219-1609333200-1609336800@montessoriacademychicago.org
SUMMARY:Virtual Admissions Coffee
DESCRIPTION:Our Admissions Coffee Chats provide prospective families with the opportunity to learn more about our programming\, the Montessori pedegogy and history\, and the admissions process. During these informal  sessions\, parents also have the chance to ask questions of our faculty and administration\, get a glimpse inside of the academy doors\, and view a virtual tour of their child’s level of classroom. \nRSVP Required. Please give us a call at 312.243.0977 or reach out to our team at admissions@montessoriacademychicago.localhost.me if you’d like to attend.
URL:https://montessoriacademychicago.org/event/virtual-admissions-coffee-6/2020-12-30/
CATEGORIES:Coffee Chats
END:VEVENT
BEGIN:VEVENT
DTSTART;TZID=America/Chicago:20201216T130000
DTEND;TZID=America/Chicago:20201216T140000
DTSTAMP:20260421T170804
CREATED:20201005T150947Z
LAST-MODIFIED:20201211T231350Z
UID:1201-1608123600-1608127200@montessoriacademychicago.org
SUMMARY:Virtual Admissions Coffee
DESCRIPTION:Our Admissions Coffee Chats provide prospective families with the opportunity to learn more about our programming\, the Montessori pedegogy and history\, and the admissions process. During these informal  sessions\, parents also have the chance to ask questions of our faculty and administration\, get a glimpse inside of the academy doors\, and view a virtual tour of their child’s level of classroom. \nRSVP Required. Please give us a call at 312.243.0977 or reach out to our team at admissions@montessoriacademychicago.localhost.me if you’d like to attend.
URL:https://montessoriacademychicago.org/event/virtual-admissions-coffee-5/
CATEGORIES:Coffee Chats
END:VEVENT
BEGIN:VEVENT
DTSTART;TZID=America/Chicago:20201202T130000
DTEND;TZID=America/Chicago:20201202T140000
DTSTAMP:20260421T170804
CREATED:20201005T150913Z
LAST-MODIFIED:20201006T165405Z
UID:1200-1606914000-1606917600@montessoriacademychicago.org
SUMMARY:Virtual Admissions Coffee
DESCRIPTION:Our Admissions Coffee Chats provide prospective families with the opportunity to learn more about our programming\, the Montessori pedegogy and history\, and the admissions process. During these informal  sessions\, parents also have the chance to ask questions of our faculty and administration\, get a glimpse inside of the academy doors\, and view a virtual tour of their child’s level of classroom. \nRSVP Required. Please give us a call at 312.243.0977 or reach out to our team at admissions@montessoriacademychicago.localhost.me if you’d like to attend.
URL:https://montessoriacademychicago.org/event/virtual-admissions-coffee-4/
CATEGORIES:Coffee Chats
END:VEVENT
BEGIN:VEVENT
DTSTART;TZID=America/Chicago:20201111T130000
DTEND;TZID=America/Chicago:20201111T140000
DTSTAMP:20260421T170804
CREATED:20201005T150206Z
LAST-MODIFIED:20201006T165422Z
UID:1199-1605099600-1605103200@montessoriacademychicago.org
SUMMARY:Virtual Admissions Coffee
DESCRIPTION:Our Admissions Coffee Chats provide prospective families with the opportunity to learn more about our programming\, the Montessori pedegogy and history\, and the admissions process. During these informal  sessions\, parents also have the chance to ask questions of our faculty and administration\, get a glimpse inside of the academy doors\, and view a virtual tour of their child’s level of classroom. \nRSVP Required. Please give us a call at 312.243.0977 or reach out to our team at admissions@montessoriacademychicago.localhost.me if you’d like to attend.
URL:https://montessoriacademychicago.org/event/virtual-admissions-coffee-3/
CATEGORIES:Coffee Chats
END:VEVENT
BEGIN:VEVENT
DTSTART;TZID=America/Chicago:20201028T130000
DTEND;TZID=America/Chicago:20201028T140000
DTSTAMP:20260421T170804
CREATED:20201005T145746Z
LAST-MODIFIED:20201006T165437Z
UID:1198-1603890000-1603893600@montessoriacademychicago.org
SUMMARY:Virtual Admissions Coffee
DESCRIPTION:Our Admissions Coffee Chats provide prospective families with the opportunity to learn more about our programming\, the Montessori pedegogy and history\, and the admissions process. During these informal  sessions\, parents also have the chance to ask questions of our faculty and administration\, get a glimpse inside of the academy doors\, and view a virtual tour of their child’s level of classroom. \nRSVP Required. Please give us a call at 312.243.0977 or reach out to our team at admissions@montessoriacademychicago.localhost.me if you’d like to attend.
URL:https://montessoriacademychicago.org/event/virtual-admissions-coffee-2/
CATEGORIES:Coffee Chats
END:VEVENT
BEGIN:VEVENT
DTSTART;TZID=America/Chicago:20201014T130000
DTEND;TZID=America/Chicago:20201014T140000
DTSTAMP:20260421T170804
CREATED:20201005T145547Z
LAST-MODIFIED:20201006T165450Z
UID:1197-1602680400-1602684000@montessoriacademychicago.org
SUMMARY:Virtual Admissions Coffee
DESCRIPTION:Our Admissions Coffee Chats provide prospective families with the opportunity to learn more about our programming\, the Montessori pedegogy and history\, and the admissions process. During these informal  sessions\, parents also have the chance to ask questions of our faculty and administration\, get a glimpse inside of the academy doors\, and view a virtual tour of their child’s level of classroom. \nRSVP Required. Please give us a call at 312.243.0977 or reach out to our team at admissions@montessoriacademychicago.localhost.me if you’d like to attend.
URL:https://montessoriacademychicago.org/event/virtual-admissions-coffee/
CATEGORIES:Coffee Chats
END:VEVENT
BEGIN:VEVENT
DTSTART;TZID=America/Chicago:20200310T090000
DTEND;TZID=America/Chicago:20200310T103000
DTSTAMP:20260421T170804
CREATED:20190905T173113Z
LAST-MODIFIED:20190905T173113Z
UID:1107-1583830800-1583836200@montessoriacademychicago.org
SUMMARY:Admissions Coffee Chat
DESCRIPTION:Our Admissions Coffee Chats provide prospective families with the opportunity to learn more about each program and tour our state-of-the-art facilities. These informal information sessions help interested families become acquainted with our community and offer the chance to ask our faculty\, administration\, and current parents questions about the school. A morning at the Academy includes basic information on our programming\, Montessori pedagogy and history\, and the admissions process. \nRSVP is required. Please send an email to admissions@montessoriacademychicago.localhost.me. Adults only\, please.
URL:https://montessoriacademychicago.org/event/admissions-coffee-chat-42/
CATEGORIES:Coffee Chats
END:VEVENT
BEGIN:VEVENT
DTSTART;TZID=America/Chicago:20200218T090000
DTEND;TZID=America/Chicago:20200218T103000
DTSTAMP:20260421T170804
CREATED:20190905T173011Z
LAST-MODIFIED:20190905T173011Z
UID:1105-1582016400-1582021800@montessoriacademychicago.org
SUMMARY:Admissions Coffee Chat
DESCRIPTION:Our Admissions Coffee Chats provide prospective families with the opportunity to learn more about each program and tour our state-of-the-art facilities. These informal information sessions help interested families become acquainted with our community and offer the chance to ask our faculty\, administration\, and current parents questions about the school. A morning at the Academy includes basic information on our programming\, Montessori pedagogy and history\, and the admissions process. \nRSVP is required. Please send an email to admissions@montessoriacademychicago.localhost.me. Adults only\, please.
URL:https://montessoriacademychicago.org/event/admissions-coffee-chat-41/
CATEGORIES:Coffee Chats
END:VEVENT
BEGIN:VEVENT
DTSTART;TZID=America/Chicago:20200204T090000
DTEND;TZID=America/Chicago:20200204T103000
DTSTAMP:20260421T170804
CREATED:20190905T172924Z
LAST-MODIFIED:20190905T172924Z
UID:1103-1580806800-1580812200@montessoriacademychicago.org
SUMMARY:Admissions Coffee Chat
DESCRIPTION:Our Admissions Coffee Chats provide prospective families with the opportunity to learn more about each program and tour our state-of-the-art facilities. These informal information sessions help interested families become acquainted with our community and offer the chance to ask our faculty\, administration\, and current parents questions about the school. A morning at the Academy includes basic information on our programming\, Montessori pedagogy and history\, and the admissions process. \nRSVP is required. Please send an email to admissions@montessoriacademychicago.localhost.me. Adults only\, please.
URL:https://montessoriacademychicago.org/event/admissions-coffee-chat-40/
CATEGORIES:Coffee Chats
END:VEVENT
BEGIN:VEVENT
DTSTART;TZID=America/Chicago:20200114T090000
DTEND;TZID=America/Chicago:20200114T103000
DTSTAMP:20260421T170804
CREATED:20190905T163054Z
LAST-MODIFIED:20190905T163054Z
UID:1102-1578992400-1578997800@montessoriacademychicago.org
SUMMARY:Admissions Coffee Chat
DESCRIPTION:Our Admissions Coffee Chats provide prospective families with the opportunity to learn more about each program and tour our state-of-the-art facilities. These informal information sessions help interested families become acquainted with our community and offer the chance to ask our faculty\, administration\, and current parents questions about the school. A morning at the Academy includes basic information on our programming\, Montessori pedagogy and history\, and the admissions process. \nRSVP is required. Please send an email to admissions@montessoriacademychicago.localhost.me. Adults only\, please.
URL:https://montessoriacademychicago.org/event/admissions-coffee-chat-39/
CATEGORIES:Coffee Chats
END:VEVENT
BEGIN:VEVENT
DTSTART;TZID=America/Chicago:20191210T090000
DTEND;TZID=America/Chicago:20191210T103000
DTSTAMP:20260421T170804
CREATED:20190905T163003Z
LAST-MODIFIED:20190905T163003Z
UID:1101-1575968400-1575973800@montessoriacademychicago.org
SUMMARY:Admissions Coffee Chat
DESCRIPTION:Our Admissions Coffee Chats provide prospective families with the opportunity to learn more about each program and tour our state-of-the-art facilities. These informal information sessions help interested families become acquainted with our community and offer the chance to ask our faculty\, administration\, and current parents questions about the school. A morning at the Academy includes basic information on our programming\, Montessori pedagogy and history\, and the admissions process. \nRSVP is required. Please send an email to admissions@montessoriacademychicago.localhost.me. Adults only\, please.
URL:https://montessoriacademychicago.org/event/admissions-coffee-chat-38/
CATEGORIES:Coffee Chats
END:VEVENT
BEGIN:VEVENT
DTSTART;TZID=America/Chicago:20191112T090000
DTEND;TZID=America/Chicago:20191112T103000
DTSTAMP:20260421T170804
CREATED:20190905T162812Z
LAST-MODIFIED:20190905T162812Z
UID:1099-1573549200-1573554600@montessoriacademychicago.org
SUMMARY:Admissions Coffee Chat
DESCRIPTION:Our Admissions Coffee Chats provide prospective families with the opportunity to learn more about each program and tour our state-of-the-art facilities. These informal information sessions help interested families become acquainted with our community and offer the chance to ask our faculty\, administration\, and current parents questions about the school. A morning at the Academy includes basic information on our programming\, Montessori pedagogy and history\, and the admissions process. \nRSVP is required. Please send an email to admissions@montessoriacademychicago.localhost.me. Adults only\, please.
URL:https://montessoriacademychicago.org/event/admissions-coffee-chat-36/
CATEGORIES:Coffee Chats
END:VEVENT
BEGIN:VEVENT
DTSTART;TZID=America/Chicago:20191029T090000
DTEND;TZID=America/Chicago:20191029T103000
DTSTAMP:20260421T170804
CREATED:20190905T162710Z
LAST-MODIFIED:20190905T162731Z
UID:1098-1572339600-1572345000@montessoriacademychicago.org
SUMMARY:Admissions Coffee Chat
DESCRIPTION:Our Admissions Coffee Chats provide prospective families with the opportunity to learn more about each program and tour our state-of-the-art facilities. These informal information sessions help interested families become acquainted with our community and offer the chance to ask our faculty\, administration\, and current parents questions about the school. A morning at the Academy includes basic information on our programming\, Montessori pedagogy and history\, and the admissions process. \nRSVP is required. Please send an email to admissions@montessoriacademychicago.localhost.me. Adults only\, please.
URL:https://montessoriacademychicago.org/event/admissions-coffee-chat-35/
CATEGORIES:Coffee Chats
END:VEVENT
BEGIN:VEVENT
DTSTART;TZID=America/Chicago:20191015T090000
DTEND;TZID=America/Chicago:20191015T103000
DTSTAMP:20260421T170804
CREATED:20190905T162627Z
LAST-MODIFIED:20190905T162627Z
UID:1097-1571130000-1571135400@montessoriacademychicago.org
SUMMARY:Admissions Coffee Chat
DESCRIPTION:Our Admissions Coffee Chats provide prospective families with the opportunity to learn more about each program and tour our state-of-the-art facilities. These informal information sessions help interested families become acquainted with our community and offer the chance to ask our faculty\, administration\, and current parents questions about the school. A morning at the Academy includes basic information on our programming\, Montessori pedagogy and history\, and the admissions process. \nRSVP is required. Please send an email to admissions@montessoriacademychicago.localhost.me. Adults only\, please.
URL:https://montessoriacademychicago.org/event/admissions-coffee-chat-34/
CATEGORIES:Coffee Chats
END:VEVENT
BEGIN:VEVENT
DTSTART;TZID=America/Chicago:20191001T090000
DTEND;TZID=America/Chicago:20191001T103000
DTSTAMP:20260421T170804
CREATED:20190905T162554Z
LAST-MODIFIED:20190905T162554Z
UID:1096-1569920400-1569925800@montessoriacademychicago.org
SUMMARY:Admissions Coffee Chat
DESCRIPTION:Our Admissions Coffee Chats provide prospective families with the opportunity to learn more about each program and tour our state-of-the-art facilities. These informal information sessions help interested families become acquainted with our community and offer the chance to ask our faculty\, administration\, and current parents questions about the school. A morning at the Academy includes basic information on our programming\, Montessori pedagogy and history\, and the admissions process. \nRSVP is required. Please send an email to admissions@montessoriacademychicago.localhost.me. Adults only\, please.
URL:https://montessoriacademychicago.org/event/admissions-coffee-chat-33/
CATEGORIES:Coffee Chats
END:VEVENT
BEGIN:VEVENT
DTSTART;TZID=America/Chicago:20190820T090000
DTEND;TZID=America/Chicago:20190820T103000
DTSTAMP:20260421T170804
CREATED:20180910T164939Z
LAST-MODIFIED:20190830T163458Z
UID:482-1566291600-1566297000@montessoriacademychicago.org
SUMMARY:Admissions Coffee Chat
DESCRIPTION:Our Admissions Coffee Chats provide prospective families with the opportunity to learn more about each program and tour our state-of-the-art facilities. These informal information sessions help interested families become acquainted with our community and offer the chance to ask our faculty\, administration\, and current parents questions about the school. A morning at the Academy includes basic information on our programming\, Montessori pedagogy and history\, and the admissions process. \nRSVP is required. Please send an email to admissions@montessoriacademychicago.localhost.me. Adults only\, please.
URL:https://montessoriacademychicago.org/event/admissions-coffee-chat-30/
CATEGORIES:Coffee Chats
END:VEVENT
END:VCALENDAR