BEGIN:VCALENDAR
VERSION:2.0
PRODID:-//Montessori Academy Chicago - ECPv6.15.17//NONSGML v1.0//EN
CALSCALE:GREGORIAN
METHOD:PUBLISH
X-ORIGINAL-URL:https://montessoriacademychicago.org
X-WR-CALDESC:Events for Montessori Academy Chicago
REFRESH-INTERVAL;VALUE=DURATION:PT1H
X-Robots-Tag:noindex
X-PUBLISHED-TTL:PT1H
BEGIN:VTIMEZONE
TZID:America/Chicago
BEGIN:DAYLIGHT
TZOFFSETFROM:-0600
TZOFFSETTO:-0500
TZNAME:CDT
DTSTART:20160313T080000
END:DAYLIGHT
BEGIN:STANDARD
TZOFFSETFROM:-0500
TZOFFSETTO:-0600
TZNAME:CST
DTSTART:20161106T070000
END:STANDARD
BEGIN:DAYLIGHT
TZOFFSETFROM:-0600
TZOFFSETTO:-0500
TZNAME:CDT
DTSTART:20170312T080000
END:DAYLIGHT
BEGIN:STANDARD
TZOFFSETFROM:-0500
TZOFFSETTO:-0600
TZNAME:CST
DTSTART:20171105T070000
END:STANDARD
BEGIN:DAYLIGHT
TZOFFSETFROM:-0600
TZOFFSETTO:-0500
TZNAME:CDT
DTSTART:20180311T080000
END:DAYLIGHT
BEGIN:STANDARD
TZOFFSETFROM:-0500
TZOFFSETTO:-0600
TZNAME:CST
DTSTART:20181104T070000
END:STANDARD
END:VTIMEZONE
BEGIN:VEVENT
DTSTART;TZID=America/Chicago:20171101T080000
DTEND;TZID=America/Chicago:20171103T170000
DTSTAMP:20260422T071308
CREATED:20171025T143407Z
LAST-MODIFIED:20171025T143407Z
UID:377-1509523200-1509728400@montessoriacademychicago.org
SUMMARY:School Pictures
DESCRIPTION:
URL:https://montessoriacademychicago.org/event/school-pictures/
END:VEVENT
BEGIN:VEVENT
DTSTART;TZID=America/Chicago:20171101T080000
DTEND;TZID=America/Chicago:20171103T170000
DTSTAMP:20260422T071308
CREATED:20171025T143407Z
LAST-MODIFIED:20171025T143407Z
UID:929-1509523200-1509728400@montessoriacademychicago.org
SUMMARY:School Pictures
DESCRIPTION:
URL:https://montessoriacademychicago.org/event/school-pictures-2/
END:VEVENT
BEGIN:VEVENT
DTSTART;TZID=America/Chicago:20171107T090000
DTEND;TZID=America/Chicago:20171107T103000
DTSTAMP:20260422T071308
CREATED:20171102T161935Z
LAST-MODIFIED:20171102T161935Z
UID:383-1510045200-1510050600@montessoriacademychicago.org
SUMMARY:Informational Coffee for Prospective Parents
DESCRIPTION:
URL:https://montessoriacademychicago.org/event/informational-coffee-for-prospective-parents/
END:VEVENT
BEGIN:VEVENT
DTSTART;TZID=America/Chicago:20171107T090000
DTEND;TZID=America/Chicago:20171107T103000
DTSTAMP:20260422T071308
CREATED:20171102T161935Z
LAST-MODIFIED:20171102T161935Z
UID:933-1510045200-1510050600@montessoriacademychicago.org
SUMMARY:Informational Coffee for Prospective Parents
DESCRIPTION:
URL:https://montessoriacademychicago.org/event/informational-coffee-for-prospective-parents-9/
END:VEVENT
BEGIN:VEVENT
DTSTART;TZID=America/Chicago:20171107T173000
DTEND;TZID=America/Chicago:20171107T183000
DTSTAMP:20260422T071308
CREATED:20171102T162128Z
LAST-MODIFIED:20171102T162128Z
UID:385-1510075800-1510079400@montessoriacademychicago.org
SUMMARY:Primary Math CPE
DESCRIPTION:
URL:https://montessoriacademychicago.org/event/primary-math-cpe/
END:VEVENT
BEGIN:VEVENT
DTSTART;TZID=America/Chicago:20171107T173000
DTEND;TZID=America/Chicago:20171107T183000
DTSTAMP:20260422T071308
CREATED:20171102T162128Z
LAST-MODIFIED:20171102T162128Z
UID:935-1510075800-1510079400@montessoriacademychicago.org
SUMMARY:Primary Math CPE
DESCRIPTION:
URL:https://montessoriacademychicago.org/event/primary-math-cpe-2/
END:VEVENT
BEGIN:VEVENT
DTSTART;VALUE=DATE:20171110
DTEND;VALUE=DATE:20171111
DTSTAMP:20260422T071308
CREATED:20171102T162048Z
LAST-MODIFIED:20171102T162048Z
UID:384-1510272000-1510358399@montessoriacademychicago.org
SUMMARY:Parent-Teacher Conferences; No Student Attendance
DESCRIPTION:
URL:https://montessoriacademychicago.org/event/parent-teacher-conferences-no-student-attendance/
END:VEVENT
BEGIN:VEVENT
DTSTART;VALUE=DATE:20171110
DTEND;VALUE=DATE:20171111
DTSTAMP:20260422T071308
CREATED:20171102T162048Z
LAST-MODIFIED:20171102T162048Z
UID:934-1510272000-1510358399@montessoriacademychicago.org
SUMMARY:Parent-Teacher Conferences; No Student Attendance
DESCRIPTION:
URL:https://montessoriacademychicago.org/event/parent-teacher-conferences-no-student-attendance-3/
END:VEVENT
BEGIN:VEVENT
DTSTART;VALUE=DATE:20171122
DTEND;VALUE=DATE:20171123
DTSTAMP:20260422T071308
CREATED:20171025T144114Z
LAST-MODIFIED:20171025T144114Z
UID:379-1511308800-1511395199@montessoriacademychicago.org
SUMMARY:School Closes at 4:00pm
DESCRIPTION:No Extracurricular Activities
URL:https://montessoriacademychicago.org/event/school-closes-at-400pm-2/
END:VEVENT
BEGIN:VEVENT
DTSTART;VALUE=DATE:20171122
DTEND;VALUE=DATE:20171123
DTSTAMP:20260422T071308
CREATED:20171025T144114Z
LAST-MODIFIED:20171025T144114Z
UID:931-1511308800-1511395199@montessoriacademychicago.org
SUMMARY:School Closes at 4:00pm
DESCRIPTION:No Extracurricular Activities
URL:https://montessoriacademychicago.org/event/school-closes-at-400pm-2-2/
END:VEVENT
BEGIN:VEVENT
DTSTART;TZID=America/Chicago:20171123T080000
DTEND;TZID=America/Chicago:20171124T170000
DTSTAMP:20260422T071308
CREATED:20171025T144219Z
LAST-MODIFIED:20171025T144259Z
UID:380-1511424000-1511542800@montessoriacademychicago.org
SUMMARY:No School- Thanksgiving Holiday
DESCRIPTION:
URL:https://montessoriacademychicago.org/event/no-school-thanksgiving-holiday/
END:VEVENT
BEGIN:VEVENT
DTSTART;TZID=America/Chicago:20171123T080000
DTEND;TZID=America/Chicago:20171124T170000
DTSTAMP:20260422T071308
CREATED:20171025T144219Z
LAST-MODIFIED:20171025T144219Z
UID:932-1511424000-1511542800@montessoriacademychicago.org
SUMMARY:No School- Thanksgiving Holiday
DESCRIPTION:
URL:https://montessoriacademychicago.org/event/no-school-thanksgiving-holiday-2/
END:VEVENT
END:VCALENDAR