BEGIN:VCALENDAR
VERSION:2.0
PRODID:-//Montessori Academy Chicago - ECPv6.15.17//NONSGML v1.0//EN
CALSCALE:GREGORIAN
METHOD:PUBLISH
X-WR-CALNAME:Montessori Academy Chicago
X-ORIGINAL-URL:https://montessoriacademychicago.org
X-WR-CALDESC:Events for Montessori Academy Chicago
REFRESH-INTERVAL;VALUE=DURATION:PT1H
X-Robots-Tag:noindex
X-PUBLISHED-TTL:PT1H
BEGIN:VTIMEZONE
TZID:America/Chicago
BEGIN:DAYLIGHT
TZOFFSETFROM:-0600
TZOFFSETTO:-0500
TZNAME:CDT
DTSTART:20160313T080000
END:DAYLIGHT
BEGIN:STANDARD
TZOFFSETFROM:-0500
TZOFFSETTO:-0600
TZNAME:CST
DTSTART:20161106T070000
END:STANDARD
BEGIN:DAYLIGHT
TZOFFSETFROM:-0600
TZOFFSETTO:-0500
TZNAME:CDT
DTSTART:20170312T080000
END:DAYLIGHT
BEGIN:STANDARD
TZOFFSETFROM:-0500
TZOFFSETTO:-0600
TZNAME:CST
DTSTART:20171105T070000
END:STANDARD
BEGIN:DAYLIGHT
TZOFFSETFROM:-0600
TZOFFSETTO:-0500
TZNAME:CDT
DTSTART:20180311T080000
END:DAYLIGHT
BEGIN:STANDARD
TZOFFSETFROM:-0500
TZOFFSETTO:-0600
TZNAME:CST
DTSTART:20181104T070000
END:STANDARD
BEGIN:DAYLIGHT
TZOFFSETFROM:-0600
TZOFFSETTO:-0500
TZNAME:CDT
DTSTART:20190310T080000
END:DAYLIGHT
BEGIN:STANDARD
TZOFFSETFROM:-0500
TZOFFSETTO:-0600
TZNAME:CST
DTSTART:20191103T070000
END:STANDARD
END:VTIMEZONE
BEGIN:VEVENT
DTSTART;VALUE=DATE:20171225
DTEND;VALUE=DATE:20180106
DTSTAMP:20260422T034143
CREATED:20171102T162351Z
LAST-MODIFIED:20171102T162351Z
UID:387-1514160000-1515196799@montessoriacademychicago.org
SUMMARY:Winter Break; No School
DESCRIPTION:
URL:https://montessoriacademychicago.org/event/winter-break-no-school/
END:VEVENT
BEGIN:VEVENT
DTSTART;VALUE=DATE:20171225
DTEND;VALUE=DATE:20180106
DTSTAMP:20260422T034143
CREATED:20171102T162351Z
LAST-MODIFIED:20171102T162351Z
UID:937-1514160000-1515196799@montessoriacademychicago.org
SUMMARY:Winter Break; No School
DESCRIPTION:
URL:https://montessoriacademychicago.org/event/winter-break-no-school-2/
END:VEVENT
BEGIN:VEVENT
DTSTART;TZID=America/Chicago:20180108T080000
DTEND;TZID=America/Chicago:20180108T170000
DTSTAMP:20260422T034143
CREATED:20171102T162508Z
LAST-MODIFIED:20171102T162508Z
UID:388-1515398400-1515430800@montessoriacademychicago.org
SUMMARY:Classes Resume- Pajama Day!
DESCRIPTION:
URL:https://montessoriacademychicago.org/event/classes-resume-pajama-day/
END:VEVENT
BEGIN:VEVENT
DTSTART;TZID=America/Chicago:20180108T080000
DTEND;TZID=America/Chicago:20180108T170000
DTSTAMP:20260422T034143
CREATED:20171102T162508Z
LAST-MODIFIED:20171102T162508Z
UID:938-1515398400-1515430800@montessoriacademychicago.org
SUMMARY:Classes Resume- Pajama Day!
DESCRIPTION:
URL:https://montessoriacademychicago.org/event/classes-resume-pajama-day-3/
END:VEVENT
BEGIN:VEVENT
DTSTART;TZID=America/Chicago:20180109T090000
DTEND;TZID=America/Chicago:20180109T103000
DTSTAMP:20260422T034143
CREATED:20171102T164629Z
LAST-MODIFIED:20171102T164629Z
UID:405-1515488400-1515493800@montessoriacademychicago.org
SUMMARY:Informational Coffee for Prospective Parents
DESCRIPTION:Please RSVP to Admissions@montessoriacademychicago.localhost.me
URL:https://montessoriacademychicago.org/event/informational-coffee-for-prospective-parents-3/
END:VEVENT
BEGIN:VEVENT
DTSTART;TZID=America/Chicago:20180109T090000
DTEND;TZID=America/Chicago:20180109T103000
DTSTAMP:20260422T034143
CREATED:20171102T164629Z
LAST-MODIFIED:20171102T164629Z
UID:954-1515488400-1515493800@montessoriacademychicago.org
SUMMARY:Informational Coffee for Prospective Parents
DESCRIPTION:Please RSVP to Admissions@montessoriacademychicago.localhost.me
URL:https://montessoriacademychicago.org/event/informational-coffee-for-prospective-parents-3-2/
END:VEVENT
BEGIN:VEVENT
DTSTART;TZID=America/Chicago:20180110T173000
DTEND;TZID=America/Chicago:20180110T183000
DTSTAMP:20260422T034143
CREATED:20171102T163647Z
LAST-MODIFIED:20171102T163647Z
UID:397-1515605400-1515609000@montessoriacademychicago.org
SUMMARY:Toileting in the First Three Years of Life
DESCRIPTION:Toilet learning is a natural process and should be done at a pace\nthat promotes comfort and independence. Encouraging children\nto become aware of their bodily functions during this sensitive\nperiod of development for toileting allows for less distress\nwhen the child is older and more physically able to control their\ntoileting abilities. The Montessori approach to toilet learning\nbegins at birth and continues throughout the first three years of\nlife. Come and learn more about the Academy’s approach to this\nimportant developmental stage. This event will be hosted by our\nLower School teachers and will include take away material that\nwill assist you in becoming a toilet learning expert.
URL:https://montessoriacademychicago.org/event/toileting-in-the-first-three-years-of-life/
END:VEVENT
BEGIN:VEVENT
DTSTART;TZID=America/Chicago:20180110T173000
DTEND;TZID=America/Chicago:20180110T183000
DTSTAMP:20260422T034143
CREATED:20171102T163647Z
LAST-MODIFIED:20171102T163647Z
UID:946-1515605400-1515609000@montessoriacademychicago.org
SUMMARY:Toileting in the First Three Years of Life
DESCRIPTION:Toilet learning is a natural process and should be done at a pace\nthat promotes comfort and independence. Encouraging children\nto become aware of their bodily functions during this sensitive\nperiod of development for toileting allows for less distress\nwhen the child is older and more physically able to control their\ntoileting abilities. The Montessori approach to toilet learning\nbegins at birth and continues throughout the first three years of\nlife. Come and learn more about the Academy’s approach to this\nimportant developmental stage. This event will be hosted by our\nLower School teachers and will include take away material that\nwill assist you in becoming a toilet learning expert.
URL:https://montessoriacademychicago.org/event/toileting-in-the-first-three-years-of-life-2/
END:VEVENT
BEGIN:VEVENT
DTSTART;VALUE=DATE:20180115
DTEND;VALUE=DATE:20180116
DTSTAMP:20260422T034143
CREATED:20171102T162550Z
LAST-MODIFIED:20171102T162550Z
UID:389-1515974400-1516060799@montessoriacademychicago.org
SUMMARY:MLK Jr. Day- No School
DESCRIPTION:
URL:https://montessoriacademychicago.org/event/mlk-jr-day-no-school/
END:VEVENT
BEGIN:VEVENT
DTSTART;VALUE=DATE:20180115
DTEND;VALUE=DATE:20180116
DTSTAMP:20260422T034143
CREATED:20171102T162550Z
LAST-MODIFIED:20171102T162550Z
UID:939-1515974400-1516060799@montessoriacademychicago.org
SUMMARY:MLK Jr. Day- No School
DESCRIPTION:
URL:https://montessoriacademychicago.org/event/mlk-jr-day-no-school-2/
END:VEVENT
BEGIN:VEVENT
DTSTART;TZID=America/Chicago:20180118T173000
DTEND;TZID=America/Chicago:20180118T183000
DTSTAMP:20260422T034143
CREATED:20171102T163746Z
LAST-MODIFIED:20171102T163746Z
UID:398-1516296600-1516300200@montessoriacademychicago.org
SUMMARY:Stepping Up! Elementary Open House for Kindergartners and More
DESCRIPTION:Join us for an informative night as our wonderful guides introduce\nthe beauty of the Elementary program. You will come to understand\nthe progression of the child’s statement\, “Help me to help myself\nso that I can help others.” This presentation will give a thorough\noverview of our program\, discuss the importance of the continuing\ncycle of both the EI (6-9) and EII (9-12) classrooms\, and provide you\nwith an opportunity to ask questions of the teachers about the\nnext developmental stage. As your child transitions from the 3-6\nPrimary Environment he/she now enters another level of physical\ngrowth\, academic ability\, humor\, and social justice.
URL:https://montessoriacademychicago.org/event/stepping-up-elementary-open-house-for-kindergartners-and-more/
END:VEVENT
BEGIN:VEVENT
DTSTART;TZID=America/Chicago:20180118T173000
DTEND;TZID=America/Chicago:20180118T183000
DTSTAMP:20260422T034143
CREATED:20171102T163746Z
LAST-MODIFIED:20171102T163746Z
UID:947-1516296600-1516300200@montessoriacademychicago.org
SUMMARY:Stepping Up! Elementary Open House for Kindergartners and More
DESCRIPTION:Join us for an informative night as our wonderful guides introduce\nthe beauty of the Elementary program. You will come to understand\nthe progression of the child’s statement\, “Help me to help myself\nso that I can help others.” This presentation will give a thorough\noverview of our program\, discuss the importance of the continuing\ncycle of both the EI (6-9) and EII (9-12) classrooms\, and provide you\nwith an opportunity to ask questions of the teachers about the\nnext developmental stage. As your child transitions from the 3-6\nPrimary Environment he/she now enters another level of physical\ngrowth\, academic ability\, humor\, and social justice.
URL:https://montessoriacademychicago.org/event/stepping-up-elementary-open-house-for-kindergartners-and-more-2/
END:VEVENT
BEGIN:VEVENT
DTSTART;TZID=America/Chicago:20180123T090000
DTEND;TZID=America/Chicago:20180123T103000
DTSTAMP:20260422T034143
CREATED:20171102T164720Z
LAST-MODIFIED:20171102T164720Z
UID:406-1516698000-1516703400@montessoriacademychicago.org
SUMMARY:Informational Coffee for Prospective Parents
DESCRIPTION:Please RSVP to admissions@montessoriacademychicago.localhost.me
URL:https://montessoriacademychicago.org/event/informational-coffee-for-prospective-parents-4/
END:VEVENT
BEGIN:VEVENT
DTSTART;TZID=America/Chicago:20180123T090000
DTEND;TZID=America/Chicago:20180123T103000
DTSTAMP:20260422T034143
CREATED:20171102T164720Z
LAST-MODIFIED:20171102T164720Z
UID:955-1516698000-1516703400@montessoriacademychicago.org
SUMMARY:Informational Coffee for Prospective Parents
DESCRIPTION:Please RSVP to admissions@montessoriacademychicago.localhost.me
URL:https://montessoriacademychicago.org/event/informational-coffee-for-prospective-parents-4-2/
END:VEVENT
END:VCALENDAR