BEGIN:VCALENDAR
VERSION:2.0
PRODID:-//Montessori Academy Chicago - ECPv6.15.17//NONSGML v1.0//EN
CALSCALE:GREGORIAN
METHOD:PUBLISH
X-ORIGINAL-URL:https://montessoriacademychicago.org
X-WR-CALDESC:Events for Montessori Academy Chicago
REFRESH-INTERVAL;VALUE=DURATION:PT1H
X-Robots-Tag:noindex
X-PUBLISHED-TTL:PT1H
BEGIN:VTIMEZONE
TZID:America/Chicago
BEGIN:DAYLIGHT
TZOFFSETFROM:-0600
TZOFFSETTO:-0500
TZNAME:CDT
DTSTART:20180311T080000
END:DAYLIGHT
BEGIN:STANDARD
TZOFFSETFROM:-0500
TZOFFSETTO:-0600
TZNAME:CST
DTSTART:20181104T070000
END:STANDARD
BEGIN:DAYLIGHT
TZOFFSETFROM:-0600
TZOFFSETTO:-0500
TZNAME:CDT
DTSTART:20190310T080000
END:DAYLIGHT
BEGIN:STANDARD
TZOFFSETFROM:-0500
TZOFFSETTO:-0600
TZNAME:CST
DTSTART:20191103T070000
END:STANDARD
BEGIN:DAYLIGHT
TZOFFSETFROM:-0600
TZOFFSETTO:-0500
TZNAME:CDT
DTSTART:20200308T080000
END:DAYLIGHT
BEGIN:STANDARD
TZOFFSETFROM:-0500
TZOFFSETTO:-0600
TZNAME:CST
DTSTART:20201101T070000
END:STANDARD
END:VTIMEZONE
BEGIN:VEVENT
DTSTART;TZID=America/Chicago:20190205T090000
DTEND;TZID=America/Chicago:20190205T103000
DTSTAMP:20260421T052030
CREATED:20180910T161516Z
LAST-MODIFIED:20180910T161516Z
UID:470-1549357200-1549362600@montessoriacademychicago.org
SUMMARY:Admissions Coffee Chat
DESCRIPTION:Our Admissions Coffee Chats provide prospective families with the opportunity to learn more about each program and tour our state-of-the-art facilities. These informal information sessions help interested families become acquainted with our community and offer the chance to ask our faculty\, administration\, and current parents questions about the school. A morning at the Academy includes basic information on our programming\, Montessori pedagogy and history\, and the admissions process. \nRSVP is required. Please send an email to admissions@montessoriacademychicago.localhost.me. Adults only\, please.
URL:https://montessoriacademychicago.org/event/admissions-coffee-chat-18/
END:VEVENT
BEGIN:VEVENT
DTSTART;TZID=America/Chicago:20190205T090000
DTEND;TZID=America/Chicago:20190205T103000
DTSTAMP:20260421T052030
CREATED:20180910T161516Z
LAST-MODIFIED:20180910T161516Z
UID:977-1549357200-1549362600@montessoriacademychicago.org
SUMMARY:Admissions Coffee Chat
DESCRIPTION:Our Admissions Coffee Chats provide prospective families with the opportunity to learn more about each program and tour our state-of-the-art facilities. These informal information sessions help interested families become acquainted with our community and offer the chance to ask our faculty\, administration\, and current parents questions about the school. A morning at the Academy includes basic information on our programming\, Montessori pedagogy and history\, and the admissions process. \nRSVP is required. Please send an email to admissions@montessoriacademychicago.localhost.me. Adults only\, please.
URL:https://montessoriacademychicago.org/event/admissions-coffee-chat-18-2/
END:VEVENT
BEGIN:VEVENT
DTSTART;VALUE=DATE:20190209
DTEND;VALUE=DATE:20190210
DTSTAMP:20260421T052030
CREATED:20180910T193310Z
LAST-MODIFIED:20180910T193310Z
UID:500-1549670400-1549756799@montessoriacademychicago.org
SUMMARY:Silence and Discovery: The Montessori Journey\, for Nursery\, Primary\, and Elementary Parents
DESCRIPTION:The Montessori Journey is a powerful and emotional event for\nmany parents and staff. Many of the adults who are involved in the\nAcademy did not attend a Montessori school as a child. Although\nyou can read about Montessori philosophy\, attend parent nights\,\nand observe in the classroom\, it can be difficult\, at times\, to really\nunderstand the experience that the child has every day at school\nin a Montessori classroom. The Montessori Journey provides an\nopportunity for dedicated adults to explore the entire continuum\nof the school and experience firsthand\, just like the children\, the\namazing things that an authentic Montessori program has to offer.\n*This full-day event includes breakfast\, lunch\, and afternoon\nrefreshments. Childcare is not provided  for this event.
URL:https://montessoriacademychicago.org/event/silence-and-discovery-the-montessori-journey-for-nursery-primary-and-elementary-parents/
END:VEVENT
BEGIN:VEVENT
DTSTART;VALUE=DATE:20190209
DTEND;VALUE=DATE:20190210
DTSTAMP:20260421T052030
CREATED:20180910T193310Z
LAST-MODIFIED:20180910T193310Z
UID:1005-1549670400-1549756799@montessoriacademychicago.org
SUMMARY:Silence and Discovery: The Montessori Journey\, for Nursery\, Primary\, and Elementary Parents
DESCRIPTION:The Montessori Journey is a powerful and emotional event for\nmany parents and staff. Many of the adults who are involved in the\nAcademy did not attend a Montessori school as a child. Although\nyou can read about Montessori philosophy\, attend parent nights\,\nand observe in the classroom\, it can be difficult\, at times\, to really\nunderstand the experience that the child has every day at school\nin a Montessori classroom. The Montessori Journey provides an\nopportunity for dedicated adults to explore the entire continuum\nof the school and experience firsthand\, just like the children\, the\namazing things that an authentic Montessori program has to offer.\n*This full-day event includes breakfast\, lunch\, and afternoon\nrefreshments. Childcare is not provided  for this event.
URL:https://montessoriacademychicago.org/event/silence-and-discovery-the-montessori-journey-for-nursery-primary-and-elementary-parents-2/
END:VEVENT
BEGIN:VEVENT
DTSTART;VALUE=DATE:20190218
DTEND;VALUE=DATE:20190219
DTSTAMP:20260421T052030
CREATED:20180919T214629Z
LAST-MODIFIED:20180919T214629Z
UID:518-1550448000-1550534399@montessoriacademychicago.org
SUMMARY:President's Day
DESCRIPTION:No Student or Staff Attendance
URL:https://montessoriacademychicago.org/event/presidents-day/
END:VEVENT
BEGIN:VEVENT
DTSTART;VALUE=DATE:20190218
DTEND;VALUE=DATE:20190219
DTSTAMP:20260421T052030
CREATED:20180919T214629Z
LAST-MODIFIED:20180919T214629Z
UID:1021-1550448000-1550534399@montessoriacademychicago.org
SUMMARY:President's Day
DESCRIPTION:No Student or Staff Attendance
URL:https://montessoriacademychicago.org/event/presidents-day-2/
END:VEVENT
BEGIN:VEVENT
DTSTART;TZID=America/Chicago:20190219T090000
DTEND;TZID=America/Chicago:20190219T103000
DTSTAMP:20260421T052030
CREATED:20180910T162304Z
LAST-MODIFIED:20180910T162304Z
UID:471-1550566800-1550572200@montessoriacademychicago.org
SUMMARY:Admissions Coffee Chat
DESCRIPTION:Our Admissions Coffee Chats provide prospective families with the opportunity to learn more about each program and tour our state-of-the-art facilities. These informal information sessions help interested families become acquainted with our community and offer the chance to ask our faculty\, administration\, and current parents questions about the school. A morning at the Academy includes basic information on our programming\, Montessori pedagogy and history\, and the admissions process. \nRSVP is required. Please send an email to admissions@montessoriacademychicago.localhost.me. Adults only\, please.
URL:https://montessoriacademychicago.org/event/admissions-coffee-chat-19/
END:VEVENT
BEGIN:VEVENT
DTSTART;TZID=America/Chicago:20190219T090000
DTEND;TZID=America/Chicago:20190219T103000
DTSTAMP:20260421T052030
CREATED:20180910T162304Z
LAST-MODIFIED:20180910T162304Z
UID:978-1550566800-1550572200@montessoriacademychicago.org
SUMMARY:Admissions Coffee Chat
DESCRIPTION:Our Admissions Coffee Chats provide prospective families with the opportunity to learn more about each program and tour our state-of-the-art facilities. These informal information sessions help interested families become acquainted with our community and offer the chance to ask our faculty\, administration\, and current parents questions about the school. A morning at the Academy includes basic information on our programming\, Montessori pedagogy and history\, and the admissions process. \nRSVP is required. Please send an email to admissions@montessoriacademychicago.localhost.me. Adults only\, please.
URL:https://montessoriacademychicago.org/event/admissions-coffee-chat-19-2/
END:VEVENT
BEGIN:VEVENT
DTSTART;TZID=America/Chicago:20190228T173000
DTEND;TZID=America/Chicago:20190228T183000
DTSTAMP:20260421T052030
CREATED:20180910T203749Z
LAST-MODIFIED:20180910T203749Z
UID:502-1551375000-1551378600@montessoriacademychicago.org
SUMMARY:Continued Parent Enrichment: Elementary and Middle School Presentations Math in Elementary\, The Montessori Way
DESCRIPTION:Math presentation night is coming to the Elementary level on\nThursday\, February 28th! Along the Montessori Math continuum\,\nthere exist many instances of overlap and connections between\ndifferent pieces of work at different levels. There are also many\nopportunities for children to practice and incorporate already\nmastered skills in more and more challenging ways. For this evening’s\nMath adventure\, you will participate in student-led lessons and\nactivities in both the Lower and Upper Elementary levels.\nWe will begin the evening for 30 minutes in the Polaris classroom\nand then move into Antares for another 30 minutes. This is a great\nopportunity to see how works build on each other from one level to\nthe next.
URL:https://montessoriacademychicago.org/event/continued-parent-enrichment-elementary-and-middle-school-presentations-math-in-elementary-the-montessori-way/
END:VEVENT
BEGIN:VEVENT
DTSTART;TZID=America/Chicago:20190228T173000
DTEND;TZID=America/Chicago:20190228T183000
DTSTAMP:20260421T052030
CREATED:20180910T203749Z
LAST-MODIFIED:20180910T203749Z
UID:1006-1551375000-1551378600@montessoriacademychicago.org
SUMMARY:Continued Parent Enrichment: Elementary and Middle School Presentations Math in Elementary\, The Montessori Way
DESCRIPTION:Math presentation night is coming to the Elementary level on\nThursday\, February 28th! Along the Montessori Math continuum\,\nthere exist many instances of overlap and connections between\ndifferent pieces of work at different levels. There are also many\nopportunities for children to practice and incorporate already\nmastered skills in more and more challenging ways. For this evening’s\nMath adventure\, you will participate in student-led lessons and\nactivities in both the Lower and Upper Elementary levels.\nWe will begin the evening for 30 minutes in the Polaris classroom\nand then move into Antares for another 30 minutes. This is a great\nopportunity to see how works build on each other from one level to\nthe next.
URL:https://montessoriacademychicago.org/event/continued-parent-enrichment-elementary-and-middle-school-presentations-math-in-elementary-the-montessori-way-2/
END:VEVENT
END:VCALENDAR